BEGIN:VCALENDAR
VERSION:2.0
PRODID:-//Austin Asian Community Health Initiative - ECPv6.15.18//NONSGML v1.0//EN
CALSCALE:GREGORIAN
METHOD:PUBLISH
X-WR-CALNAME:Austin Asian Community Health Initiative
X-ORIGINAL-URL:https://aachi.org/vi
X-WR-CALDESC:Sự kiện cho Austin Asian Community Health Initiative
REFRESH-INTERVAL;VALUE=DURATION:PT1H
X-Robots-Tag:noindex
X-PUBLISHED-TTL:PT1H
BEGIN:VTIMEZONE
TZID:America/Los_Angeles
BEGIN:DAYLIGHT
TZOFFSETFROM:-0800
TZOFFSETTO:-0700
TZNAME:PDT
DTSTART:20240310T100000
END:DAYLIGHT
BEGIN:STANDARD
TZOFFSETFROM:-0700
TZOFFSETTO:-0800
TZNAME:PST
DTSTART:20241103T090000
END:STANDARD
BEGIN:DAYLIGHT
TZOFFSETFROM:-0800
TZOFFSETTO:-0700
TZNAME:PDT
DTSTART:20250309T100000
END:DAYLIGHT
BEGIN:STANDARD
TZOFFSETFROM:-0700
TZOFFSETTO:-0800
TZNAME:PST
DTSTART:20251102T090000
END:STANDARD
BEGIN:DAYLIGHT
TZOFFSETFROM:-0800
TZOFFSETTO:-0700
TZNAME:PDT
DTSTART:20260308T100000
END:DAYLIGHT
BEGIN:STANDARD
TZOFFSETFROM:-0700
TZOFFSETTO:-0800
TZNAME:PST
DTSTART:20261101T090000
END:STANDARD
END:VTIMEZONE
BEGIN:VEVENT
DTSTART;TZID=America/Los_Angeles:20251011T080000
DTEND;TZID=America/Los_Angeles:20251011T110000
DTSTAMP:20260421T190244
CREATED:20250918T204842Z
LAST-MODIFIED:20250918T205318Z
UID:10000012-1760169600-1760180400@aachi.org
SUMMARY:Ngày Y Tế Cộng Đồng - 10/11/25
DESCRIPTION:Ngày Y Tế Cộng Đồng Việt Nam 10/11/25 và kỷ niệm 25 năm thành lập:
URL:https://aachi.org/vi/event/ngay-y-te-cong-dong/
LOCATION:Texas
ATTACH;FMTTYPE=image/jpeg:https://aachi.org/wp-content/uploads/2025/09/548209906_122250173246079145_1666555546994685358_n.jpg
END:VEVENT
END:VCALENDAR