BEGIN:VCALENDAR
VERSION:2.0
PRODID:-//Austin Asian Community Health Initiative - ECPv6.15.18//NONSGML v1.0//EN
CALSCALE:GREGORIAN
METHOD:PUBLISH
X-WR-CALNAME:Austin Asian Community Health Initiative
X-ORIGINAL-URL:https://aachi.org/ko
X-WR-CALDESC:Austin Asian Community Health Initiative 이벤트
REFRESH-INTERVAL;VALUE=DURATION:PT1H
X-Robots-Tag:noindex
X-PUBLISHED-TTL:PT1H
BEGIN:VTIMEZONE
TZID:America/Los_Angeles
BEGIN:DAYLIGHT
TZOFFSETFROM:-0800
TZOFFSETTO:-0700
TZNAME:PDT
DTSTART:20230312T100000
END:DAYLIGHT
BEGIN:STANDARD
TZOFFSETFROM:-0700
TZOFFSETTO:-0800
TZNAME:PST
DTSTART:20231105T090000
END:STANDARD
BEGIN:DAYLIGHT
TZOFFSETFROM:-0800
TZOFFSETTO:-0700
TZNAME:PDT
DTSTART:20240310T100000
END:DAYLIGHT
BEGIN:STANDARD
TZOFFSETFROM:-0700
TZOFFSETTO:-0800
TZNAME:PST
DTSTART:20241103T090000
END:STANDARD
BEGIN:DAYLIGHT
TZOFFSETFROM:-0800
TZOFFSETTO:-0700
TZNAME:PDT
DTSTART:20250309T100000
END:DAYLIGHT
BEGIN:STANDARD
TZOFFSETFROM:-0700
TZOFFSETTO:-0800
TZNAME:PST
DTSTART:20251102T090000
END:STANDARD
END:VTIMEZONE
BEGIN:VEVENT
DTSTART;TZID=America/Los_Angeles:20240601T140000
DTEND;TZID=America/Los_Angeles:20240601T160000
DTSTAMP:20260421T215224
CREATED:20240517T200240Z
LAST-MODIFIED:20240517T200240Z
UID:10000007-1717250400-1717257600@aachi.org
SUMMARY:AACHI tabling at AFSSA's Legal & Resource Fair
DESCRIPTION:The fair will be held on June 1\, 2024 at the St. Francis School Gymnasium from 2pm-4pm. While RSVP’ing is not mandatory for attendance\, it does help us with planning. Thank You! \nRSVP here.
URL:https://aachi.org/ko/event/aachi-tabling-at-afssas-legal-resource-fair/
END:VEVENT
END:VCALENDAR