BEGIN:VCALENDAR
VERSION:2.0
PRODID:-//Austin Asian Community Health Initiative - ECPv6.15.18//NONSGML v1.0//EN
CALSCALE:GREGORIAN
METHOD:PUBLISH
X-WR-CALNAME:Austin Asian Community Health Initiative
X-ORIGINAL-URL:https://aachi.org/hi
X-WR-CALDESC:Events for Austin Asian Community Health Initiative
REFRESH-INTERVAL;VALUE=DURATION:PT1H
X-Robots-Tag:noindex
X-PUBLISHED-TTL:PT1H
BEGIN:VTIMEZONE
TZID:America/Los_Angeles
BEGIN:DAYLIGHT
TZOFFSETFROM:-0800
TZOFFSETTO:-0700
TZNAME:PDT
DTSTART:20230312T100000
END:DAYLIGHT
BEGIN:STANDARD
TZOFFSETFROM:-0700
TZOFFSETTO:-0800
TZNAME:PST
DTSTART:20231105T090000
END:STANDARD
BEGIN:DAYLIGHT
TZOFFSETFROM:-0800
TZOFFSETTO:-0700
TZNAME:PDT
DTSTART:20240310T100000
END:DAYLIGHT
BEGIN:STANDARD
TZOFFSETFROM:-0700
TZOFFSETTO:-0800
TZNAME:PST
DTSTART:20241103T090000
END:STANDARD
BEGIN:DAYLIGHT
TZOFFSETFROM:-0800
TZOFFSETTO:-0700
TZNAME:PDT
DTSTART:20250309T100000
END:DAYLIGHT
BEGIN:STANDARD
TZOFFSETFROM:-0700
TZOFFSETTO:-0800
TZNAME:PST
DTSTART:20251102T090000
END:STANDARD
END:VTIMEZONE
BEGIN:VEVENT
DTSTART;TZID=America/Los_Angeles:20240525T160000
DTEND;TZID=America/Los_Angeles:20240525T213000
DTSTAMP:20260423T172143
CREATED:20240517T194459Z
LAST-MODIFIED:20240517T194459Z
UID:10000005-1716652800-1716672600@aachi.org
SUMMARY:AACHI at Night Market.Fun
DESCRIPTION:Saturday\, May 25\, we will be at the Night Market from 4 pm – 9:30 pm. More info here: https://www.nightmarket.fun/
URL:https://aachi.org/hi/event/aachi-at-night-market-fun/
END:VEVENT
END:VCALENDAR